BEGIN:VCALENDAR
VERSION:2.0
PRODID:-//NorthEast Texas Community Events - ECPv6.15.20//NONSGML v1.0//EN
CALSCALE:GREGORIAN
METHOD:PUBLISH
X-WR-CALNAME:NorthEast Texas Community Events
X-ORIGINAL-URL:https://www.netxevents.com
X-WR-CALDESC:Events for NorthEast Texas Community Events
REFRESH-INTERVAL;VALUE=DURATION:PT1H
X-Robots-Tag:noindex
X-PUBLISHED-TTL:PT1H
BEGIN:VTIMEZONE
TZID:America/Chicago
BEGIN:DAYLIGHT
TZOFFSETFROM:-0600
TZOFFSETTO:-0500
TZNAME:CDT
DTSTART:20230312T080000
END:DAYLIGHT
BEGIN:STANDARD
TZOFFSETFROM:-0500
TZOFFSETTO:-0600
TZNAME:CST
DTSTART:20231105T070000
END:STANDARD
BEGIN:DAYLIGHT
TZOFFSETFROM:-0600
TZOFFSETTO:-0500
TZNAME:CDT
DTSTART:20240310T080000
END:DAYLIGHT
BEGIN:STANDARD
TZOFFSETFROM:-0500
TZOFFSETTO:-0600
TZNAME:CST
DTSTART:20241103T070000
END:STANDARD
BEGIN:DAYLIGHT
TZOFFSETFROM:-0600
TZOFFSETTO:-0500
TZNAME:CDT
DTSTART:20250309T080000
END:DAYLIGHT
BEGIN:STANDARD
TZOFFSETFROM:-0500
TZOFFSETTO:-0600
TZNAME:CST
DTSTART:20251102T070000
END:STANDARD
END:VTIMEZONE
BEGIN:VEVENT
DTSTART;TZID=America/Chicago:20241004T080000
DTEND;TZID=America/Chicago:20241004T150000
DTSTAMP:20260420T091517
CREATED:20240815T223509Z
LAST-MODIFIED:20241001T201413Z
UID:4785-1728028800-1728054000@www.netxevents.com
SUMMARY:The Undaunted Warhorse Initiative Annual Golf Tournament
DESCRIPTION:We are dedicated to the mission to bridge the gap for veterans struggling to reintegrate into society through a temporary housing solution with world-class mentorship to prevent such tragedies as homelessness\, incarceration\, and suicide. We have included a brief history and mission briefing in the attachments.  \nWe are hoping your organization would consider playing\, sponsoring\, or donating a gift to raffle at our event.  \nIt will be held Oct. 4th at 8:00 am at Woodbridge Country Club in Sachse TX.  \nPlease click the link for sponsorship or playing details. Please Call Bradley Tiegs (214-460-8234) to arrange the pick up of gifts for the raffle.\n \nhttps://tinyurl.com/yc6xwu3h
URL:https://www.netxevents.com/events/the-undaunted-warhorse-initiative-annual-golf-tournament/
LOCATION:Woodbridge Country Club\, 7400 Country Club Dr.\, Wylie\, TX\, 75098\, United States
CATEGORIES:Collin County
ATTACH;FMTTYPE=image/png:https://www.netxevents.com/wp-content/uploads/2024/08/Flyer-1.png
END:VEVENT
BEGIN:VEVENT
DTSTART;TZID=America/Chicago:20241005T150000
DTEND;TZID=America/Chicago:20241005T200000
DTSTAMP:20260420T091517
CREATED:20241001T201419Z
LAST-MODIFIED:20241001T201419Z
UID:4846-1728140400-1728158400@www.netxevents.com
SUMMARY:Family Fun Day
DESCRIPTION:Family Fun Day is a fundraiser benefiting the Trevor Wade Daniel Foundation. This foundation assist patients and familied battling childhood cancer. The event will offer a Fun Run\, Giant Volleyball\, Food Trucks\, Kid Zone and Live Music.
URL:https://www.netxevents.com/events/family-fun-day/
LOCATION:TX
CATEGORIES:Hunt County
ATTACH;FMTTYPE=image/png:https://www.netxevents.com/wp-content/uploads/2024/09/0.png
END:VEVENT
BEGIN:VEVENT
DTSTART;TZID=America/Chicago:20241005T150000
DTEND;TZID=America/Chicago:20241005T210000
DTSTAMP:20260420T091517
CREATED:20241001T201427Z
LAST-MODIFIED:20241001T201427Z
UID:4851-1728140400-1728162000@www.netxevents.com
SUMMARY:Giant Volleyball Tourneament
DESCRIPTION:Its BAAAAACK! Join us with 4 of your best team mates for a fun game of giant volleyball. NO skills are required! \n-Double Elimination = More playing time! \n-Up to 5 players per team. \n-Exclusive T-Shirt for each player – (Sizes Available: Adult Small-3X) \nPlease email Team Name & Shirt Sizes to contact@twdrave.com. \n***Limited Teams so sign up early!!!*** \nPlease register by September 22\, 2024 to be guaranteed a shirt for each player. Shirt sizes can be emailed to contact@twdbrave.com by September 22\, 2024.
URL:https://www.netxevents.com/events/giant-volleyball-tourneament/
LOCATION:TX
ATTACH;FMTTYPE=image/jpeg:https://www.netxevents.com/wp-content/uploads/2024/09/TWDF-Volleyball-Facebook-Post.jpg
END:VEVENT
END:VCALENDAR