BEGIN:VCALENDAR
VERSION:2.0
PRODID:-//NorthEast Texas Community Events - ECPv6.15.20//NONSGML v1.0//EN
CALSCALE:GREGORIAN
METHOD:PUBLISH
X-WR-CALNAME:NorthEast Texas Community Events
X-ORIGINAL-URL:https://www.netxevents.com
X-WR-CALDESC:Events for NorthEast Texas Community Events
REFRESH-INTERVAL;VALUE=DURATION:PT1H
X-Robots-Tag:noindex
X-PUBLISHED-TTL:PT1H
BEGIN:VTIMEZONE
TZID:America/Chicago
BEGIN:DAYLIGHT
TZOFFSETFROM:-0600
TZOFFSETTO:-0500
TZNAME:CDT
DTSTART:20220313T080000
END:DAYLIGHT
BEGIN:STANDARD
TZOFFSETFROM:-0500
TZOFFSETTO:-0600
TZNAME:CST
DTSTART:20221106T070000
END:STANDARD
BEGIN:DAYLIGHT
TZOFFSETFROM:-0600
TZOFFSETTO:-0500
TZNAME:CDT
DTSTART:20230312T080000
END:DAYLIGHT
BEGIN:STANDARD
TZOFFSETFROM:-0500
TZOFFSETTO:-0600
TZNAME:CST
DTSTART:20231105T070000
END:STANDARD
BEGIN:DAYLIGHT
TZOFFSETFROM:-0600
TZOFFSETTO:-0500
TZNAME:CDT
DTSTART:20240310T080000
END:DAYLIGHT
BEGIN:STANDARD
TZOFFSETFROM:-0500
TZOFFSETTO:-0600
TZNAME:CST
DTSTART:20241103T070000
END:STANDARD
END:VTIMEZONE
BEGIN:VEVENT
DTSTART;TZID=America/Chicago:20231117T190000
DTEND;TZID=America/Chicago:20231117T210000
DTSTAMP:20260419T140854
CREATED:20231102T184012Z
LAST-MODIFIED:20231102T184012Z
UID:4171-1700247600-1700254800@www.netxevents.com
SUMMARY:The Secret Garden Musical
DESCRIPTION:The Secret Garden is only happening for a single weekend! Don’t miss this wonderful\, touching show! Get your tickets at https://showtimeatthegma.com/events/. Prices for the tickets vary from $10 to $25.
URL:https://www.netxevents.com/events/the-secret-garden-musical/
LOCATION:TX
CATEGORIES:Hunt County
ATTACH;FMTTYPE=image/png:https://www.netxevents.com/wp-content/uploads/2023/10/SG-Facebook-Post.png
ORGANIZER;CN="Greenville Family Theater":MAILTO:producergft@gmail.com
END:VEVENT
BEGIN:VEVENT
DTSTART;TZID=America/Chicago:20231118T173000
DTEND;TZID=America/Chicago:20231118T190000
DTSTAMP:20260419T140854
CREATED:20231115T195631Z
LAST-MODIFIED:20231115T200425Z
UID:4275-1700328600-1700334000@www.netxevents.com
SUMMARY:Movie Night at the Museum
DESCRIPTION:Join us at the Audie Murphy/American Cotton Museum on Saturday\, November 18th at 5:30pm for the showing of the 1947 western Springtime in the Sierras. A gang\, headed by evil Jean Loring (Stephanie Bachelor)\, is slaughtering game out of season. Roy Rogers finds the freezer where the meat is kept\, but baddie Mike Wilkes (Roy Barcroft) finds him there. A famous fight takes place in the freezer. Thirty minutes prior to the main feature an episode of The Gene Autry Show will be shown. Admission to the movie is free and popcorn and soft drinks will be served. A special thank you to SERVE for sponsoring movie night. For any additional questions contact the Museum at (903) 450-4502.
URL:https://www.netxevents.com/events/movie-night-at-the-museum/
LOCATION:Audie Murphy/American Cotton Museum\, 600 I-30\, Greenville\, TX\, 75402\, United States
CATEGORIES:Hunt County
ATTACH;FMTTYPE=image/jpeg:https://www.netxevents.com/wp-content/uploads/2023/11/MV5BOGFhM2FmNTktYjQ0MS00ZWViLThkNGQtNzVjMjQ5MzFhZTY1XkEyXkFqcGdeQXVyMTY5Nzc4MDY@._V1_-scaled.jpg
ORGANIZER;CN="Audie Murphy/Amrican Coton Museum":MAILTO:amacm@att.net
END:VEVENT
BEGIN:VEVENT
DTSTART;TZID=America/Chicago:20231117T190000
DTEND;TZID=America/Chicago:20231117T210000
DTSTAMP:20260419T140854
CREATED:20231102T184012Z
LAST-MODIFIED:20231102T184012Z
UID:4171-1700247600-1700254800@www.netxevents.com
SUMMARY:The Secret Garden Musical
DESCRIPTION:The Secret Garden is only happening for a single weekend! Don’t miss this wonderful\, touching show! Get your tickets at https://showtimeatthegma.com/events/. Prices for the tickets vary from $10 to $25.
URL:https://www.netxevents.com/events/the-secret-garden-musical/
LOCATION:TX
CATEGORIES:Hunt County
ATTACH;FMTTYPE=image/png:https://www.netxevents.com/wp-content/uploads/2023/10/SG-Facebook-Post.png
ORGANIZER;CN="Greenville Family Theater":MAILTO:producergft@gmail.com
END:VEVENT
BEGIN:VEVENT
DTSTART;TZID=America/Chicago:20231118T090000
DTEND;TZID=America/Chicago:20231118T100000
DTSTAMP:20260419T140854
CREATED:20231115T202404Z
LAST-MODIFIED:20231115T202929Z
UID:4287-1700298000-1700301600@www.netxevents.com
SUMMARY:Koffee with Keith
DESCRIPTION:Please join us and meet your congressman. Enjoy coffee and bring your questions. Hope to see you there! \nJosephine City Hall\n201 S. Main St.\nJosephine\, TX 75164 \nSaturday\, November 18th\n9:00am to 10:00am
URL:https://www.netxevents.com/events/koffee-with-keith/
LOCATION:Josephine City Hall\, 201 S. Main St.\, Josephine\, Texas\, 75164
CATEGORIES:Collin County
ATTACH;FMTTYPE=image/jpeg:https://www.netxevents.com/wp-content/uploads/2023/11/401816090_10161410334829042_7016970344928132318_n.jpg
END:VEVENT
BEGIN:VEVENT
DTSTART;TZID=America/Chicago:20231117T190000
DTEND;TZID=America/Chicago:20231117T210000
DTSTAMP:20260419T140854
CREATED:20231102T184012Z
LAST-MODIFIED:20231102T184012Z
UID:4171-1700247600-1700254800@www.netxevents.com
SUMMARY:The Secret Garden Musical
DESCRIPTION:The Secret Garden is only happening for a single weekend! Don’t miss this wonderful\, touching show! Get your tickets at https://showtimeatthegma.com/events/. Prices for the tickets vary from $10 to $25.
URL:https://www.netxevents.com/events/the-secret-garden-musical/
LOCATION:TX
CATEGORIES:Hunt County
ATTACH;FMTTYPE=image/png:https://www.netxevents.com/wp-content/uploads/2023/10/SG-Facebook-Post.png
ORGANIZER;CN="Greenville Family Theater":MAILTO:producergft@gmail.com
END:VEVENT
BEGIN:VEVENT
DTSTART;TZID=America/Chicago:20231111T110000
DTEND;TZID=America/Chicago:20231111T120000
DTSTAMP:20260419T140854
CREATED:20230914T192444Z
LAST-MODIFIED:20231020T172134Z
UID:4121-1699700400-1699704000@www.netxevents.com
SUMMARY:Hunt County Born to be Hero Veterans Day Parade
DESCRIPTION:Join us for Hunt County’s 2023 Born to be Hero Veterans Day Parade in Downtown Greenville! The parade will be held on November 11th\, starting at 11:00am at Lee Street & Houston Street. \nThe parade route will head west on Lee Street to Wright\, then east on Washington. GHS NJROTC Color Guards will kick off the parade\, followed by floats\, the GHS Marching Band\, Jeeps & Classic Cars\, and of course our wonderful first responders. Veterans are offered a seat in the Jeeps for the parade through the Hunt County Jeep Club. \nA Veterans luncheon will follow at Ridgecrest Baptist Church at noon. Contact Sparkee at (903) 259-2593 to RSVP. \nParade entry registration is now active. Register your parade entry here.
URL:https://www.netxevents.com/events/hunt-county-born-to-be-hero-veterans-day-parade/
LOCATION:Downtown Greenville Parade\, Lee Street to Washington Street\, Greenville\, TX\, 75401\, United States
CATEGORIES:Hunt County
ATTACH;FMTTYPE=image/jpeg:https://www.netxevents.com/wp-content/uploads/2023/09/veterans-day-parade-flyer-1.jpg
ORGANIZER;CN="NorthEast Texas Community Events":MAILTO:netexasevents@gmail.com
END:VEVENT
BEGIN:VEVENT
DTSTART;TZID=America/Chicago:20231106T183000
DTEND;TZID=America/Chicago:20231106T203000
DTSTAMP:20260419T140854
CREATED:20231102T183847Z
LAST-MODIFIED:20231102T183917Z
UID:4206-1699295400-1699302600@www.netxevents.com
SUMMARY:70th Anniversary of Korea War "Reading of the Texan Names"
DESCRIPTION:We will honor and remember the 1\,779 Texans who gave the ultimate sacrifice for freedom by reading each name out loud in one evening.\n\nWe are requesting 56 participants; each participant will read 30 names.\n\nThe RCHS Choir\, United in Harmony\, will sing the National Anthem\, a POW/MIA presentation will be made and Taps will be played by our very own Legionnaire Wayne Janosik.\n\nSign-Up: https://www.signupgenius.com/…/4090D4AA5A62DA1FF2…\n\nEach person will receive a list of names by Nov 1 (W) so there is a chance to review & practice saying their names. We are not looking for perfection in pronunciation just do your best. You will not have to bring your list as it will be available at the podium.  For those reading please check-in on the day of the event at 6:00pm or earlier; each person reading will have assigned seating. Once your list of names are read you are not required to stay for the duration of reading.\n\nWe encourage youth groups/students to read\, must be atleast 10 yours old.\n\nThis event will be livestreamed via FB by NorthEast Texas Events.\n\nAny questions please contact us at roysecityleagion@yahoo.com\n\nWe would like to thank our partners: Appreciation Printing\, Gator Workshop\, Lolly & Pop’s\, Love from Lex\, Higher Hopes Counseling\, Neha Bakes\, NorthEast Texas Events\, NTX Digital\, New Hope Baptist Church\, RCISD Choir\, City of Royse City\, Rotary of Royse City\, Royse City Lions Club\, and Trinity Baptist Church.
URL:https://www.netxevents.com/events/70th-anniversary-of-korea-war-reading-of-the-texan-names/
LOCATION:Trinity Baptist Church\, 300 N Erby Campbell Blvd\, Royse City\, TX\, 75189\, United States
CATEGORIES:Rockwall County
ATTACH;FMTTYPE=image/jpeg:https://www.netxevents.com/wp-content/uploads/2023/10/th-4183001868.jpeg
ORGANIZER;CN="NorthEast Texas Community Events":MAILTO:netexasevents@gmail.com
END:VEVENT
BEGIN:VEVENT
DTSTART;TZID=America/Chicago:20231103T120000
DTEND;TZID=America/Chicago:20231103T180000
DTSTAMP:20260419T140854
CREATED:20231102T190021Z
LAST-MODIFIED:20231102T190021Z
UID:4210-1699012800-1699034400@www.netxevents.com
SUMMARY:American Red Cross Community Blood Drive
DESCRIPTION:Blood Drives are held six times a year:  Jan\, Mar\, May\, Jul\, Sep\, and Nov on the first Friday from 12-6pm.\nHosted:  Royse City American Legion Post 100\nSign-up:\nhttps://www.redcrossblood.org/give.html/drive-results…\nGOAL: 100 donors\n***WALK-INS WELCOME***\n\nThank you to our amazing partners: American Red Cross\, Appreciation Printing\, NTX Digital Billboards\, Perfect Balanced Life\, Rotary Club of Royse City\, Royse City Lions Club\, and Trinity Baptist Church.
URL:https://www.netxevents.com/events/american-red-cross-community-blood-drive/
LOCATION:Trinity Baptist Church\, 300 N Erby Campbell Blvd\, Royse City\, TX\, 75189\, United States
ATTACH;FMTTYPE=image/png:https://www.netxevents.com/wp-content/uploads/2023/10/give_blood-3787744082.png
ORGANIZER;CN="Royse City American Legion Post 100":MAILTO:roysecitylegion@yahoo.com
END:VEVENT
BEGIN:VEVENT
DTSTART;TZID=America/Chicago:20231028T150000
DTEND;TZID=America/Chicago:20231028T190000
DTSTAMP:20260419T140854
CREATED:20230919T155508Z
LAST-MODIFIED:20230919T155746Z
UID:4135-1698505200-1698519600@www.netxevents.com
SUMMARY:Fall Fest on Lee Street
DESCRIPTION:Join us for Fall Fest on Lee Street! This is a FREE family-friendly Halloween celebration in Downtown Greenville on Saturday\, October 28th from 3:00pm to 7:00pm. Downtown merchants will be open late. Classic cars\, hot rods\, and the Hunt County Jeep Club will be providing Hunt County’s largest trunk-or-treat ever! Food and street vendors will be set up along Lee Street\, and costumes are encouraged! \nWe will be closing down Lee Street between Wesley and Stonewall. \nClassic cars and hot rods must register here –> netxevents.com/classic\n(No registration required for Jeeps) \nInterested vendors may register here –> netxevents.com/vendor-interest-form \nThank you to our title sponsor Red River Credit Union!
URL:https://www.netxevents.com/events/fall-fest-on-lee-street-2/
LOCATION:Lee Street Downtown Greenville\, Lee Street at Wesley\, Greenville\, TX\, 75401\, United States
CATEGORIES:Hunt County
ATTACH;FMTTYPE=image/jpeg:https://www.netxevents.com/wp-content/uploads/2023/09/Fall-Fest-on-Lee-Street-Flyer.jpg
ORGANIZER;CN="NorthEast Texas Community Events":MAILTO:netexasevents@gmail.com
END:VEVENT
BEGIN:VEVENT
DTSTART;TZID=America/Chicago:20231028T100000
DTEND;TZID=America/Chicago:20231028T140000
DTSTAMP:20260419T140854
CREATED:20231011T191942Z
LAST-MODIFIED:20231011T191942Z
UID:4157-1698487200-1698501600@www.netxevents.com
SUMMARY:Northeast Texas VetFest
DESCRIPTION:Join us on Saturday\, October 28th where we will be serving as many Northeast Texas Veterans\, First Responders\, and their families as we can! \nDon’t miss out on: \n– Community family workout (all ages) hosted by Merging Vets and Players with real pro-athletes \n– Delicious Food Trucks \n– Bounce Houses\, Games\, Face Painting\, and more \n– Great music and atmosphere from the live band Brenden Lira \n– Networking opportunities with military service and first responder providers \n– Employers looking to hire \n– Family activities for everyone
URL:https://www.netxevents.com/events/northeast-texas-vetfest/
LOCATION:Greenville Sports Park\, 3603 Leo Hackney Blvd\, Greenville\, TX\, 75402\, United States
CATEGORIES:Hunt County
ATTACH;FMTTYPE=image/png:https://www.netxevents.com/wp-content/uploads/2023/10/NETXVet-Fest-2023.png
END:VEVENT
BEGIN:VEVENT
DTSTART;TZID=America/Chicago:20231014T100000
DTEND;TZID=America/Chicago:20231014T160000
DTSTAMP:20260419T140854
CREATED:20230921T152529Z
LAST-MODIFIED:20230921T194959Z
UID:4139-1697277600-1697299200@www.netxevents.com
SUMMARY:County Armory's Get Outdoors Expo
DESCRIPTION:County Armory’s Get Outdoors Expo will be held Saturday\, October 14th from 10:00am to 4:00pm. The event will be held at County Armory’s storefront in Downtown Greenville at 2510 Hemphill St. between Stonewall and Johnson. \nOur featured guest will be Luke Clayton\, who will be signing copies of his new book Campfire Talk. Many outdoor vendors will be here offering goods for hunting\, fishing\, camping\, cooking\, survival\, preparedness\, and self defense. County Armory will be raffling off a Diamonback AR-15/.223 as well as other gifts and prizes. Raffle tickets are $5 each or 5 for $20. There will also be food vendors\, and DJ music. \nWe are still accepting vendor applications\, please submit an interest form here –> https://www.netxevents.com/vendor-interest-form \nThis is a family-oriented event\, please wear appropriate clothing and refrain from bringing alcoholic drinks.
URL:https://www.netxevents.com/events/county-armorys-get-outdoors-expo/
LOCATION:County Armory Inc.\, 2510 Hemphill St\, Greenville\, TX\, 75401\, United States
CATEGORIES:Hunt County
ATTACH;FMTTYPE=image/jpeg:https://www.netxevents.com/wp-content/uploads/2023/09/county-armory-outdoors-expo-web.jpg
ORGANIZER;CN="NorthEast Texas Community Events":MAILTO:netexasevents@gmail.com
END:VEVENT
BEGIN:VEVENT
DTSTART;TZID=America/Chicago:20230914T180000
DTEND;TZID=America/Chicago:20230914T200000
DTSTAMP:20260419T140854
CREATED:20230821T221452Z
LAST-MODIFIED:20230821T221452Z
UID:4056-1694714400-1694721600@www.netxevents.com
SUMMARY:Highland Cow Paint Night @ Dos Ovejas 9/14 @6PM
DESCRIPTION:Unleash your inner artist at Paint Night! \n  \nCalling all art enthusiasts and social butterflies! Grab your friends and join us for an unforgettable Paint Night at Dos Ovejas. This time\, we’re painting an adorable Highland Cow that will melt your heart. \n  \nOn September 14th at 6PM\, our talented art hostess will guide you step by step through the painting process\, ensuring that even beginners create a masterpiece. No experience necessary! \n  \nBut that’s not all! While you unleash your creativity\, don’t forget to indulge in the mouthwatering food that Dos Ovejas is famous for. Savor every bite as you sip on delicious drinks and immerse yourself in the vibrant ambiance of our charming venue. \n  \nDon’t miss out on this fantastic opportunity to have a blast with friends\, discover your artistic side\, and enjoy delectable cuisine. Reserve your spot today at Dos Ovejas’ Paint Night and let your creativity run wild!
URL:https://www.netxevents.com/events/highland-cow-paint-night-dos-ovejas-9-14-6pm/
LOCATION:Dos Ovejas\, 601 S US 69\, Lone Oak\, TX\, 75453\, United States
CATEGORIES:Hunt County
ATTACH;FMTTYPE=image/png:https://www.netxevents.com/wp-content/uploads/2023/08/inbound4199282629696710331.png
END:VEVENT
BEGIN:VEVENT
DTSTART;VALUE=DATE:20230914
DTEND;VALUE=DATE:20230917
DTSTAMP:20260419T140854
CREATED:20230821T192006Z
LAST-MODIFIED:20230821T200504Z
UID:4030-1694649600-1694908799@www.netxevents.com
SUMMARY:Greenville Swap Meet & Car Show
DESCRIPTION:The Greenville Swap Meet was begun by the Northeast Texas Region of the AACA in 2000. From a small number of vendors\, it has grown to more than 200 vendors\, including parts and collectibles. \nHours of operation are:\nVendor gates are open each day at 6:30am. \nFor Patrons\, regular entrance gates will open:\nThursday – Saturday from 8:00am to 5:00pm. \nAdmission is free. Parking is $5.00. \nCar Show (Saturday 9/16)\n\n30 Classes & Best of Show\nRegistration for the Car Show is Saturday from 8:00a.m. until 2:00p.m.\nRegistration is $20 per car.\nVoting from 12-1p.m.\nAwards will be presented at 2:00P.M.
URL:https://www.netxevents.com/events/greenville-swap-meet-car-show/
LOCATION:Hunt County Fairgrounds\, 9800 Jack Finney Blvd\, Greenville\, Texas\, 75402
CATEGORIES:Hunt County
ATTACH;FMTTYPE=image/jpeg:https://www.netxevents.com/wp-content/uploads/2023/08/362287017_729741115829817_2323173879503798028_n.jpg
END:VEVENT
BEGIN:VEVENT
DTSTART;TZID=America/Chicago:20230831T190000
DTEND;TZID=America/Chicago:20230831T210000
DTSTAMP:20260419T140854
CREATED:20230825T212110Z
LAST-MODIFIED:20230825T212203Z
UID:4109-1693508400-1693515600@www.netxevents.com
SUMMARY:Lies\, Spies and Tinfoil
DESCRIPTION:Former British Intelligence Officer To Speak on “Lies\, Spies and Tinfoil”\nA retired British intelligence officer will be the speaker hosted by the No. 1 British Flying Training School Museum on August 31 at 7 pm. “Lies\, Spies and Tin Foil” will be the subject of his talk to be held at the terminal building of Terrell Municipal Airport\, 400 British Flying  School Boulevard. \n“Our speaker is Ian Foulkes\, the son of one of our last living cadets\, Len Miller\, who was in one of the final classes before the civilian flying school closed in 1945\, “explained BFTS Board Chairman Bill Huthmacher.  “While I was visiting his father in England\, I learned Ian would be in this country later this month and promptly invited him to come to Terrell to speak to us.” \nMr. Foulkes spent almost 20 years in the British Army Royal Corps of Signals after graduating from the Army Apprentices College at Harrogate. He has been stationed in Germany\, Ireland\, Norway\, Bosnia\, and worked with the III US Corps from Fort Hood\, providing the American officers access to the battlefield digital communications system\, Ptarmigan.  This attachment was both Check Forge and Reforged 87.  He served in a number of Signals Intelligence units.  He was also exposed to the nerve agent\, sarin gas\, at the Porton Down research establishment. \n“Mr. Foulkes jokes that his Long Service and Good Conduct medal\, which he received in 1997\, is usually referred to as the ‘15 years undetected crime medal’\,” explained Museum Executive Director Patrick Hotard\, “so I’m expecting some interesting stories. In particular\, he will talk about Operation Fortitude\, the Allied deception plan that was part of the D-Day planning.  After retiring from the military\, he earned a master’s degree in museum and curatorial management. \n  \n  \n 
URL:https://www.netxevents.com/events/lies-spies-and-tinfoil/
LOCATION:Terrell Municipal Airport\, 400 British Flying School Road\, Terrell\, TX\, 75160\, United States
CATEGORIES:Rockwall County
ATTACH;FMTTYPE=image/png:https://www.netxevents.com/wp-content/uploads/2023/08/Lies-Spies-Tinfoil1-1.png
END:VEVENT
BEGIN:VEVENT
DTSTART;TZID=America/Chicago:20230825T080000
DTEND;TZID=America/Chicago:20230825T170000
DTSTAMP:20260419T140854
CREATED:20230825T212924Z
LAST-MODIFIED:20230825T213204Z
UID:4113-1692950400-1692982800@www.netxevents.com
SUMMARY:Lies\, Spies and Tinfoil
DESCRIPTION:Former British Intelligence Officer To Speak on “Lies\, Spies and Tinfoil”\nA retired British intelligence officer will be the speaker hosted by the No. 1 British Flying Training School Museum on August 31 at 7 pm. “Lies\, Spies and Tin Foil” will be the subject of his talk to be held at the terminal building of Terrell Municipal Airport\, 400 British Flying  School Boulevard. \n“Our speaker is Ian Foulkes\, the son of one of our last living cadets\, Len Miller\, who was in one of the final classes before the civilian flying school closed in 1945\, “explained BFTS Board Chairman Bill Huthmacher.  “While I was visiting his father in England\, I learned Ian would be in this country later this month and promptly invited him to come to Terrell to speak to us.” \nMr. Foulkes spent almost 20 years in the British Army Royal Corps of Signals after graduating from the Army Apprentices College at Harrogate. He has been stationed in Germany\, Ireland\, Norway\, Bosnia\, and worked with the III US Corps from Fort Hood\, providing the American officers access to the battlefield digital communications system\, Ptarmigan.  This attachment was both Check Forge and Reforged 87.  He served in a number of Signals Intelligence units.  He was also exposed to the nerve agent\, sarin gas\, at the Porton Down research establishment. \n“Mr. Foulkes jokes that his Long Service and Good Conduct medal\, which he received in 1997\, is usually referred to as the ‘15 years undetected crime medal’\,” explained Museum Executive Director Patrick Hotard\, “so I’m expecting some interesting stories. In particular\, he will talk about Operation Fortitude\, the Allied deception plan that was part of the D-Day planning.  After retiring from the military\, he earned a master’s degree in museum and curatorial management. \n  \n  \n 
URL:https://www.netxevents.com/events/lies-spies-and-tinfoil-2/
LOCATION:Terrell Municipal Airport\, 400 British Flying School Road\, Terrell\, TX\, 75160\, United States
CATEGORIES:Rockwall County
ATTACH;FMTTYPE=image/png:https://www.netxevents.com/wp-content/uploads/2023/08/Lies-Spies-Tinfoil1-2.png
ORGANIZER;CN="No. 1 British Flying Training School Museum":MAILTO:info@bftsmuseum.org
END:VEVENT
BEGIN:VEVENT
DTSTART;TZID=America/Chicago:20230824T183000
DTEND;TZID=America/Chicago:20230824T203000
DTSTAMP:20260419T140854
CREATED:20230822T015648Z
LAST-MODIFIED:20230822T154127Z
UID:4060-1692901800-1692909000@www.netxevents.com
SUMMARY:Mug Painting at Prairie Coffee Co.
DESCRIPTION:Unlock your inner artist and indulge in a creative evening at Prairie Coffee Co.’s “How Great Thou Art” coffee mug painting workshop! Join us on August 24th at 6:30 PM for a delightful experience of painting our exquisite Stained Glass Rose Mug. \nPurchase Tickets Here – $20 \nDiscover the joy of expressing yourself through art as our experienced instructors guide you step-by-step in creating your very own masterpiece. No prior painting experience is necessary – this workshop is designed for all skill levels. \nWith a cozy atmosphere and a cup of our finest coffee in hand\, you’ll immerse yourself in the artistic process\, unleashing your creativity while enjoying the company of fellow art enthusiasts. The class is expected to last between 1 to 1.5 hours\, giving you ample time to relax\, unwind\, and let your imagination run wild. \nDon’t miss out on this unique opportunity to create a beautiful personalized coffee mug that will bring joy every time you take a sip. Grab your spot now and join us for an unforgettable evening of artistry and camaraderie at Prairie Coffee Co.’s breathtaking “How Great Thou Art” workshop!
URL:https://www.netxevents.com/events/mug-painting-at-prairie-coffee-co/
LOCATION:Prairie Coffee Co.\, 2404 Lee Street\, Greenville\, Texas\, United States
CATEGORIES:Hunt County
ATTACH;FMTTYPE=image/jpeg:https://www.netxevents.com/wp-content/uploads/2023/08/368002482_766019555321354_5765358866510989480_n.jpg
END:VEVENT
BEGIN:VEVENT
DTSTART;TZID=America/Chicago:20230729T170000
DTEND;TZID=America/Chicago:20230729T230000
DTSTAMP:20260419T140854
CREATED:20230712T005646Z
LAST-MODIFIED:20230712T204030Z
UID:2443-1690650000-1690671600@www.netxevents.com
SUMMARY:Stock the Stations: A Benefit for Hunt County Volunteer Fire Departments
DESCRIPTION:Mark your calendars for STOCK THE STATIONS: A Benefit for Hunt County Volunteer Stations! Join us at Kennedy Entertainment Park (Formerly Superbowl Speedway) for TDOR’s 2nd Annual Trail Better Off-Road Games and Off Road Playground! Raffles & prizes! Kids Zone with bounce house\, water slide\, face painting and more! Food trucks and vendor tables! And featuring live music by Rock Dogs\, Ryder Grimes\, and JEREMY ROWE BAND. You don’t want to miss this fun filled FAMILY-FRIENDLY evening event! Come support Hunt County’s local volunteer fire departments! General Admission $10 (12 & under FREE)\, TDOR Trail Better Games $10.
URL:https://www.netxevents.com/events/stock-the-stations-a-benefit-for-hunt-county-volunteer-fire-departments/
LOCATION:Kennedy Entertainment Park\, 437 FM 1903\, Greenville\, TX\, 75402\, United States
CATEGORIES:Hunt County
ATTACH;FMTTYPE=image/jpeg:https://www.netxevents.com/wp-content/uploads/2023/07/stock-the-stations-graphic-web.jpg
ORGANIZER;CN="Ehren Beckwith":MAILTO:netexasevents@gmail.com
END:VEVENT
END:VCALENDAR