BEGIN:VCALENDAR
VERSION:2.0
PRODID:-//NorthEast Texas Community Events - ECPv6.15.20//NONSGML v1.0//EN
CALSCALE:GREGORIAN
METHOD:PUBLISH
X-ORIGINAL-URL:https://www.netxevents.com
X-WR-CALDESC:Events for NorthEast Texas Community Events
REFRESH-INTERVAL;VALUE=DURATION:PT1H
X-Robots-Tag:noindex
X-PUBLISHED-TTL:PT1H
BEGIN:VTIMEZONE
TZID:America/Chicago
BEGIN:DAYLIGHT
TZOFFSETFROM:-0600
TZOFFSETTO:-0500
TZNAME:CDT
DTSTART:20240310T080000
END:DAYLIGHT
BEGIN:STANDARD
TZOFFSETFROM:-0500
TZOFFSETTO:-0600
TZNAME:CST
DTSTART:20241103T070000
END:STANDARD
BEGIN:DAYLIGHT
TZOFFSETFROM:-0600
TZOFFSETTO:-0500
TZNAME:CDT
DTSTART:20250309T080000
END:DAYLIGHT
BEGIN:STANDARD
TZOFFSETFROM:-0500
TZOFFSETTO:-0600
TZNAME:CST
DTSTART:20251102T070000
END:STANDARD
BEGIN:DAYLIGHT
TZOFFSETFROM:-0600
TZOFFSETTO:-0500
TZNAME:CDT
DTSTART:20260308T080000
END:DAYLIGHT
BEGIN:STANDARD
TZOFFSETFROM:-0500
TZOFFSETTO:-0600
TZNAME:CST
DTSTART:20261101T070000
END:STANDARD
END:VTIMEZONE
BEGIN:VEVENT
DTSTART;TZID=America/Chicago:20250215T093000
DTEND;TZID=America/Chicago:20250215T113000
DTSTAMP:20260419T084441
CREATED:20250130T181151Z
LAST-MODIFIED:20250130T181151Z
UID:5251-1739611800-1739619000@www.netxevents.com
SUMMARY:President's Day
DESCRIPTION:Celebrate President’s Day at the Eisenhower Birthplace! Try some presidential hobbies\, learn more about the leaders of our country\, and solve presidential puzzles to find treasure! The activities will be available between 9:30 -11:30 am and 2-4 pm and are free. For more information contact Ken Neely at ken.neely@thc.texas.gov or call (903) 465-8908. We are located at 609 S. Lamar Ave Denison TX 75021.
URL:https://www.netxevents.com/events/presidents-day/
LOCATION:Eisenhower Birthplace State Historic Site\, 609 South Lamar Ave\, Denison\, TX\, 75021\, United States
ATTACH;FMTTYPE=image/png:https://www.netxevents.com/wp-content/uploads/2025/01/Presidents-day-activties.png
ORGANIZER;CN="EisenhowerBirthplace State Historic Site":MAILTO:eisenhower-birthplace@thc.texas.gov
END:VEVENT
BEGIN:VEVENT
DTSTART;TZID=America/Chicago:20250215T140000
DTEND;TZID=America/Chicago:20250215T160000
DTSTAMP:20260419T084441
CREATED:20250130T181214Z
LAST-MODIFIED:20250130T181214Z
UID:5232-1739628000-1739635200@www.netxevents.com
SUMMARY:Chess Club
DESCRIPTION:Put your strategic thinking skills to the test! The Eisenhower Birthplace is hosting a new chess club. All experience levels welcome. We will have a few chess boards but feel free to bring your own. Chess club is hosted on the 1st and 3rd Saturdays of every month from 2-4 pm and free to attend. For more information contact Ken Neely at ken.neely@thc.texas.gov or call (903) 465-8908. We are located at 609 S. Lamar Ave Denison TX 75021.
URL:https://www.netxevents.com/events/chess-club/
LOCATION:Eisenhower Birthplace State Historic Site\, 609 South Lamar Ave\, Denison\, TX\, 75021\, United States
ATTACH;FMTTYPE=image/png:https://www.netxevents.com/wp-content/uploads/2025/01/Chess-Club.png
ORGANIZER;CN="Eisenhower Birthplace State Historic Site":MAILTO:eisenhower-birthplace@thc.texas.gov
END:VEVENT
END:VCALENDAR