BEGIN:VCALENDAR
VERSION:2.0
PRODID:-//NorthEast Texas Community Events - ECPv6.15.20//NONSGML v1.0//EN
CALSCALE:GREGORIAN
METHOD:PUBLISH
X-WR-CALNAME:NorthEast Texas Community Events
X-ORIGINAL-URL:https://www.netxevents.com
X-WR-CALDESC:Events for NorthEast Texas Community Events
REFRESH-INTERVAL;VALUE=DURATION:PT1H
X-Robots-Tag:noindex
X-PUBLISHED-TTL:PT1H
BEGIN:VTIMEZONE
TZID:America/Chicago
BEGIN:DAYLIGHT
TZOFFSETFROM:-0600
TZOFFSETTO:-0500
TZNAME:CDT
DTSTART:20230312T080000
END:DAYLIGHT
BEGIN:STANDARD
TZOFFSETFROM:-0500
TZOFFSETTO:-0600
TZNAME:CST
DTSTART:20231105T070000
END:STANDARD
BEGIN:DAYLIGHT
TZOFFSETFROM:-0600
TZOFFSETTO:-0500
TZNAME:CDT
DTSTART:20240310T080000
END:DAYLIGHT
BEGIN:STANDARD
TZOFFSETFROM:-0500
TZOFFSETTO:-0600
TZNAME:CST
DTSTART:20241103T070000
END:STANDARD
BEGIN:DAYLIGHT
TZOFFSETFROM:-0600
TZOFFSETTO:-0500
TZNAME:CDT
DTSTART:20250309T080000
END:DAYLIGHT
BEGIN:STANDARD
TZOFFSETFROM:-0500
TZOFFSETTO:-0600
TZNAME:CST
DTSTART:20251102T070000
END:STANDARD
END:VTIMEZONE
BEGIN:VEVENT
DTSTART;TZID=America/Chicago:20241004T080000
DTEND;TZID=America/Chicago:20241004T150000
DTSTAMP:20260420T141332
CREATED:20240815T223509Z
LAST-MODIFIED:20241001T201413Z
UID:4785-1728028800-1728054000@www.netxevents.com
SUMMARY:The Undaunted Warhorse Initiative Annual Golf Tournament
DESCRIPTION:We are dedicated to the mission to bridge the gap for veterans struggling to reintegrate into society through a temporary housing solution with world-class mentorship to prevent such tragedies as homelessness\, incarceration\, and suicide. We have included a brief history and mission briefing in the attachments.  \nWe are hoping your organization would consider playing\, sponsoring\, or donating a gift to raffle at our event.  \nIt will be held Oct. 4th at 8:00 am at Woodbridge Country Club in Sachse TX.  \nPlease click the link for sponsorship or playing details. Please Call Bradley Tiegs (214-460-8234) to arrange the pick up of gifts for the raffle.\n \nhttps://tinyurl.com/yc6xwu3h
URL:https://www.netxevents.com/events/the-undaunted-warhorse-initiative-annual-golf-tournament/
LOCATION:Woodbridge Country Club\, 7400 Country Club Dr.\, Wylie\, TX\, 75098\, United States
CATEGORIES:Collin County
ATTACH;FMTTYPE=image/png:https://www.netxevents.com/wp-content/uploads/2024/08/Flyer-1.png
END:VEVENT
END:VCALENDAR